BEGIN:VCALENDAR
VERSION:2.0
PRODID:-//Aeroclub Saint Junien - ECPv6.15.18//NONSGML v1.0//EN
CALSCALE:GREGORIAN
METHOD:PUBLISH
X-ORIGINAL-URL:https://www.aeroclub-saint-junien.fr
X-WR-CALDESC:Évènements pour Aeroclub Saint Junien
REFRESH-INTERVAL;VALUE=DURATION:PT1H
X-Robots-Tag:noindex
X-PUBLISHED-TTL:PT1H
BEGIN:VTIMEZONE
TZID:Europe/Paris
BEGIN:DAYLIGHT
TZOFFSETFROM:+0100
TZOFFSETTO:+0200
TZNAME:CEST
DTSTART:20220327T010000
END:DAYLIGHT
BEGIN:STANDARD
TZOFFSETFROM:+0200
TZOFFSETTO:+0100
TZNAME:CET
DTSTART:20221030T010000
END:STANDARD
BEGIN:DAYLIGHT
TZOFFSETFROM:+0100
TZOFFSETTO:+0200
TZNAME:CEST
DTSTART:20230326T010000
END:DAYLIGHT
BEGIN:STANDARD
TZOFFSETFROM:+0200
TZOFFSETTO:+0100
TZNAME:CET
DTSTART:20231029T010000
END:STANDARD
BEGIN:DAYLIGHT
TZOFFSETFROM:+0100
TZOFFSETTO:+0200
TZNAME:CEST
DTSTART:20240331T010000
END:DAYLIGHT
BEGIN:STANDARD
TZOFFSETFROM:+0200
TZOFFSETTO:+0100
TZNAME:CET
DTSTART:20241027T010000
END:STANDARD
END:VTIMEZONE
BEGIN:VEVENT
DTSTART;TZID=Europe/Paris:20230826T080000
DTEND;TZID=Europe/Paris:20230826T170000
DTSTAMP:20260422T170732
CREATED:20230712T103608Z
LAST-MODIFIED:20230712T103611Z
UID:5064-1693036800-1693069200@www.aeroclub-saint-junien.fr
SUMMARY:Fly-Brunch à Niort
DESCRIPTION:Le samedi 26 Aout 2023 L’ASPAN – Escadrille du souvenir\, club RSA\, propose un rassemblement de passionnés autour d’un buffet du p’tit déj 10h pour les « lève-tôt » au barbecue 13h pour les autres.Pour réserver\, téléphonez au 06.11.20.60.86 (Précisez le type d’aéronef\, l’immatriculation et la provenance)
URL:https://www.aeroclub-saint-junien.fr/events/fly-brunch-a-niort/
CATEGORIES:Autres événements
ATTACH;FMTTYPE=image/jpeg:https://www.aeroclub-saint-junien.fr/wp-content/uploads/2023/07/fly-brunch-Niort.jpg
END:VEVENT
END:VCALENDAR