BEGIN:VCALENDAR
VERSION:2.0
PRODID:-//Aeroclub Saint Junien - ECPv6.15.18//NONSGML v1.0//EN
CALSCALE:GREGORIAN
METHOD:PUBLISH
X-ORIGINAL-URL:https://www.aeroclub-saint-junien.fr
X-WR-CALDESC:Évènements pour Aeroclub Saint Junien
REFRESH-INTERVAL;VALUE=DURATION:PT1H
X-Robots-Tag:noindex
X-PUBLISHED-TTL:PT1H
BEGIN:VTIMEZONE
TZID:Europe/Paris
BEGIN:DAYLIGHT
TZOFFSETFROM:+0100
TZOFFSETTO:+0200
TZNAME:CEST
DTSTART:20220327T010000
END:DAYLIGHT
BEGIN:STANDARD
TZOFFSETFROM:+0200
TZOFFSETTO:+0100
TZNAME:CET
DTSTART:20221030T010000
END:STANDARD
BEGIN:DAYLIGHT
TZOFFSETFROM:+0100
TZOFFSETTO:+0200
TZNAME:CEST
DTSTART:20230326T010000
END:DAYLIGHT
BEGIN:STANDARD
TZOFFSETFROM:+0200
TZOFFSETTO:+0100
TZNAME:CET
DTSTART:20231029T010000
END:STANDARD
BEGIN:DAYLIGHT
TZOFFSETFROM:+0100
TZOFFSETTO:+0200
TZNAME:CEST
DTSTART:20240331T010000
END:DAYLIGHT
BEGIN:STANDARD
TZOFFSETFROM:+0200
TZOFFSETTO:+0100
TZNAME:CET
DTSTART:20241027T010000
END:STANDARD
END:VTIMEZONE
BEGIN:VEVENT
DTSTART;TZID=Europe/Paris:20230702T100000
DTEND;TZID=Europe/Paris:20230702T170000
DTSTAMP:20260422T184109
CREATED:20230610T102236Z
LAST-MODIFIED:20230610T102238Z
UID:4975-1688292000-1688317200@www.aeroclub-saint-junien.fr
SUMMARY:Repas à l'Aéroclub de la Pierre Levée
DESCRIPTION:DIMANCHE MIDI\,SUR RESERVATION (120 personnes max) : repas complet de 20€ (avec café et pichet de vin) \n\n\n\nApéritifMelon/Pineau des CharentesCochon braisé et pommes de terre (traiteur sur place)Fromage et saladeTarte aux pommesPour faciliter la réservation du repas de midi du dimanche\, un site de réservation est à votre disposition. il est impératif de réserver au plus vite. \n\n\n\nCLIQUEZ ICI pour réserver : https://www.helloasso.com/associations/aeroclub-de-la-pierre-levee-acpl/evenements/portes-ouvertes-2023-du-club-ulm-de-saint-meme-les-carrieres
URL:https://www.aeroclub-saint-junien.fr/events/repas-a-laeroclub-de-la-pierre-levee/
CATEGORIES:Autres événements
ATTACH;FMTTYPE=image/jpeg:https://www.aeroclub-saint-junien.fr/wp-content/uploads/2023/06/352389162_1144338279838462_2531838532802546596_n.jpg
ORGANIZER;CN="A%C3%A9roclub de la Pierre Lev%C3%A9e":MAILTO:contact@charente-ulm.fr
END:VEVENT
END:VCALENDAR