BEGIN:VCALENDAR
VERSION:2.0
PRODID:-//Aeroclub Saint Junien - ECPv6.15.20//NONSGML v1.0//EN
CALSCALE:GREGORIAN
METHOD:PUBLISH
X-WR-CALNAME:Aeroclub Saint Junien
X-ORIGINAL-URL:https://www.aeroclub-saint-junien.fr
X-WR-CALDESC:Évènements pour Aeroclub Saint Junien
REFRESH-INTERVAL;VALUE=DURATION:PT1H
X-Robots-Tag:noindex
X-PUBLISHED-TTL:PT1H
BEGIN:VTIMEZONE
TZID:Europe/Paris
BEGIN:DAYLIGHT
TZOFFSETFROM:+0100
TZOFFSETTO:+0200
TZNAME:CEST
DTSTART:20220327T010000
END:DAYLIGHT
BEGIN:STANDARD
TZOFFSETFROM:+0200
TZOFFSETTO:+0100
TZNAME:CET
DTSTART:20221030T010000
END:STANDARD
BEGIN:DAYLIGHT
TZOFFSETFROM:+0100
TZOFFSETTO:+0200
TZNAME:CEST
DTSTART:20230326T010000
END:DAYLIGHT
BEGIN:STANDARD
TZOFFSETFROM:+0200
TZOFFSETTO:+0100
TZNAME:CET
DTSTART:20231029T010000
END:STANDARD
BEGIN:DAYLIGHT
TZOFFSETFROM:+0100
TZOFFSETTO:+0200
TZNAME:CEST
DTSTART:20240331T010000
END:DAYLIGHT
BEGIN:STANDARD
TZOFFSETFROM:+0200
TZOFFSETTO:+0100
TZNAME:CET
DTSTART:20241027T010000
END:STANDARD
END:VTIMEZONE
BEGIN:VEVENT
DTSTART;TZID=Europe/Paris:20230402T090000
DTEND;TZID=Europe/Paris:20230402T140000
DTSTAMP:20260424T121600
CREATED:20230127T135840Z
LAST-MODIFIED:20230127T140359Z
UID:4812-1680426000-1680444000@www.aeroclub-saint-junien.fr
SUMMARY:Assemblée Générale
DESCRIPTION:La prochaine Assemblée Générale de l’Aéroclub de Saint Junien se tiendra le dimanche 2 avril à partir de 09h30 – salle Amédée Burbaud\, 1 rue Marcel Cachin Saint Junien –  elle sera suivie d’un apéritif dans les mêmes locaux puis d’un repas dans un lieu qui reste à définir.
URL:https://www.aeroclub-saint-junien.fr/events/assemblee-generale-2/
LOCATION:salle Amédée Burbaud\, 1 rue Marcel Cachin Saint Junien\, 1 rue Marcel Cachin\, Saint Junien\, France\, 87200\, France
CATEGORIES:Activités de l'aéroclub,Autres événements
END:VEVENT
END:VCALENDAR